BEGIN:VCALENDAR
VERSION:2.0
PRODID:icalendar-ruby
CALSCALE:GREGORIAN
METHOD:PUBLISH
BEGIN:VEVENT
DTSTAMP:20260419T165607Z
UID:5-396026@onechurchtn.com
DTSTART:20261025T143000Z
DTEND:20261025T153000Z
CLASS:PUBLIC
CREATED:20260419T091735
DESCRIPTION:Sunday Worship
LAST-MODIFIED:20260419T091735
LOCATION:Kingsport\, TN 37663
SUMMARY:Sunday Worship
URL;VALUE=URI:https://onechurchtn.com/events/sunday-worship/2026-10-25
ATTACH;FILENAME=WEBSITE-PHOTOS-%284%29.png;FMTTYPE=image/png:https://dq5pwp
 g1q8ru0.cloudfront.net/2025/04/22/18/45/53/5e0b96b1-22d4-439f-8488-b9b9111
 f4d4c/WEBSITE-PHOTOS-%25284%2529.png
END:VEVENT
END:VCALENDAR
